BEGIN:VCALENDAR
VERSION:2.0
PRODID:-//kulturkoblach - ECPv6.0.12//NONSGML v1.0//EN
CALSCALE:GREGORIAN
METHOD:PUBLISH
X-ORIGINAL-URL:https://kulturkoblach.at
X-WR-CALDESC:Events for kulturkoblach
REFRESH-INTERVAL;VALUE=DURATION:PT1H
X-Robots-Tag:noindex
X-PUBLISHED-TTL:PT1H
BEGIN:VTIMEZONE
TZID:Europe/Helsinki
BEGIN:DAYLIGHT
TZOFFSETFROM:+0200
TZOFFSETTO:+0300
TZNAME:EEST
DTSTART:20220327T010000
END:DAYLIGHT
BEGIN:STANDARD
TZOFFSETFROM:+0300
TZOFFSETTO:+0200
TZNAME:EET
DTSTART:20221030T010000
END:STANDARD
END:VTIMEZONE
BEGIN:VEVENT
DTSTART;TZID=Europe/Helsinki:20220501T080000
DTEND;TZID=Europe/Helsinki:20220501T170000
DTSTAMP:20260422T183418
CREATED:20220501T113637Z
LAST-MODIFIED:20220501T113721Z
UID:620-1651392000-1651424400@kulturkoblach.at
SUMMARY:David Helbock: RANDOM/CONTROL
DESCRIPTION:
URL:https://kulturkoblach.at/event/david-helbock-random-control/
CATEGORIES:UPCOMING
END:VEVENT
END:VCALENDAR